BEGIN:VCALENDAR
PRODID:-//SINGPromos.com//NONSGML v1.0//EN
VERSION:2.0
CALSCALE:GREGORIAN
METHOD:PUBLISH
X-WR-CALNAME:SINGPromos.com
X-ORIGINAL-URL:http://singpromos.com
X-WR-CALDESC:Events for SINGPromos.com
BEGIN:VEVENT
DTSTART:20160616T000000
DTEND:20160630T235900
DTSTAMP:20260420T023828
CREATED:20160616T041837
LAST-MODIFIED:20160616T012042
UID:181945@http://singpromos.com
SUMMARY:Aibi Fitness Mid Year Sale at Yishun Industrial Park from 16 - 30 Jun 2016
DESCRIPTION:Aibi Fitness is having a Mid Year Sale of up to 70% off for new and display sets exclusivity at AIBI Building at 50 Yishun Industrial Park till 30th June. For more information, visit [ http://singpromos.com/body-fitness-gym/aibi-fitness-mid-year-sale-at-yishun-industrial-park-from-16-30-jun-2016-181945/ ]. 
LOCATION:768725
URL:http://singpromos.com/body-fitness-gym/aibi-fitness-mid-year-sale-at-yishun-industrial-park-from-16-30-jun-2016-181945/
END:VEVENT
END:VCALENDAR