BEGIN:VCALENDAR
PRODID:-//SINGPromos.com//NONSGML v1.0//EN
VERSION:2.0
CALSCALE:GREGORIAN
METHOD:PUBLISH
X-WR-CALNAME:SINGPromos.com
X-ORIGINAL-URL:http://singpromos.com
X-WR-CALDESC:Events for SINGPromos.com
BEGIN:VEVENT
DTSTART:20160616T000000
DTEND:20160619T235900
DTSTAMP:20260420T023854
CREATED:20160616T030331
LAST-MODIFIED:20160616T134100
UID:181948@http://singpromos.com
SUMMARY:The Coffee Bean & Tea Leaf 1-for-1 Selected Ice Blended Drinks at Tiong Bahru Plaza from 16 - 19 Jun 2016
DESCRIPTION:Chill out at the new ‪Coffee Bean & Tea Leaf outlet at Tiong Bahru Plaza and enjoy 1 for 1 on selected ‪Ice Blended‬ drinks from 2pm to 9pm.. For more information, visit [ http://singpromos.com/dining-restaurants-food/the-coffee-bean-tea-leaf-1-for-1-ice-blended-drinks-at-tiong-bahru-plaza-from-16-19-jun-2016-181948/ ]. 
LOCATION:168732
URL:http://singpromos.com/dining-restaurants-food/the-coffee-bean-tea-leaf-1-for-1-ice-blended-drinks-at-tiong-bahru-plaza-from-16-19-jun-2016-181948/
END:VEVENT
END:VCALENDAR