BEGIN:VCALENDAR
PRODID:-//SINGPromos.com//NONSGML v1.0//EN
VERSION:2.0
CALSCALE:GREGORIAN
METHOD:PUBLISH
X-WR-CALNAME:SINGPromos.com
X-ORIGINAL-URL:http://singpromos.com
X-WR-CALDESC:Events for SINGPromos.com
BEGIN:VEVENT
DTSTART:20160616T000000
DTEND:20160622T235900
DTSTAMP:20260420T023854
CREATED:20160616T110332
LAST-MODIFIED:20160616T110332
UID:181968@http://singpromos.com
SUMMARY:Guardian Buy 2 Get 1 Free Selected Brands from 16 - 22 Jun 2016
DESCRIPTION:Guardian is having a 3-for-2 (or Buy 2 Get 1 Free) promotion across selected beauty, health & wellness, baby and personal care brands. Mix & match across brands, across products. For more information, visit [ http://singpromos.com/department-stores/guardian-buy-2-get-1-free-selected-brands-from-16-22-jun-2016-181968/ ]. 
LOCATION:
URL:http://singpromos.com/department-stores/guardian-buy-2-get-1-free-selected-brands-from-16-22-jun-2016-181968/
END:VEVENT
END:VCALENDAR