BEGIN:VCALENDAR
PRODID:-//SINGPromos.com//NONSGML v1.0//EN
VERSION:2.0
CALSCALE:GREGORIAN
METHOD:PUBLISH
X-WR-CALNAME:SINGPromos.com
X-ORIGINAL-URL:http://singpromos.com
X-WR-CALDESC:Events for SINGPromos.com
BEGIN:VEVENT
DTSTART:20160616T000000
DTEND:20160622T235900
DTSTAMP:20260420T023855
CREATED:20160616T120627
LAST-MODIFIED:20160623T122258
UID:181983@http://singpromos.com
SUMMARY:Mango Sale up to 50% Off from 16 Jun 2016
DESCRIPTION:Mango has started their Sale from 16 June 2016. Enjoy up to 50% Off their Spring / Summer'16 collection. For more information, visit [ http://singpromos.com/fashion-accessories/mango-sale-up-to-50-off-from-16-jun-2016-181983/ ]. 
LOCATION:
URL:http://singpromos.com/fashion-accessories/mango-sale-up-to-50-off-from-16-jun-2016-181983/
END:VEVENT
END:VCALENDAR