BEGIN:VCALENDAR
PRODID:-//SINGPromos.com//NONSGML v1.0//EN
VERSION:2.0
CALSCALE:GREGORIAN
METHOD:PUBLISH
X-WR-CALNAME:SINGPromos.com
X-ORIGINAL-URL:http://singpromos.com
X-WR-CALDESC:Events for SINGPromos.com
BEGIN:VEVENT
DTSTART:20160615T000000
DTEND:20160630T235900
DTSTAMP:20260420T023828
CREATED:20160616T153119
LAST-MODIFIED:20160616T153119
UID:182002@http://singpromos.com
SUMMARY:CIMB 1.55% p.a. SGD Fixed Deposit Promo from 15 - 30 Jun 2016
DESCRIPTION:Grow your savings with CIMB! Sign up for a CIMB 6-Month SGD Fixed Deposit and enjoy up to 1.55% p.a.* with just a minimum placement amount of S$20,000!. For more information, visit [ http://singpromos.com/banks-credit-cards/cimb-1-55-p-a-sgd-fixed-deposit-promo-from-15-30-jun-2016-182002/ ]. 
LOCATION:
URL:http://singpromos.com/banks-credit-cards/cimb-1-55-p-a-sgd-fixed-deposit-promo-from-15-30-jun-2016-182002/
END:VEVENT
END:VCALENDAR