BEGIN:VCALENDAR
PRODID:-//SINGPromos.com//NONSGML v1.0//EN
VERSION:2.0
CALSCALE:GREGORIAN
METHOD:PUBLISH
X-WR-CALNAME:SINGPromos.com
X-ORIGINAL-URL:http://singpromos.com
X-WR-CALDESC:Events for SINGPromos.com
BEGIN:VEVENT
DTSTART:20160616T000000
DTEND:20160629T235900
DTSTAMP:20260420T042933
CREATED:20160616T173319
LAST-MODIFIED:20160630T140752
UID:182015@http://singpromos.com
SUMMARY:Fox Fashion Buy 3 Get 3 Free Storewide from 16 Jun 2016
DESCRIPTION:It's the sale that everyone's been waiting for. And for once, 3's not a crowd. Buy 3 items and get 3 items free at Fox Fashion End Season Sale. For more information, visit [ http://singpromos.com/fashion-accessories/fox-fashion-buy-3-get-3-free-storewide-from-16-jun-2016-182015/ ]. 
LOCATION:
URL:http://singpromos.com/fashion-accessories/fox-fashion-buy-3-get-3-free-storewide-from-16-jun-2016-182015/
END:VEVENT
END:VCALENDAR