BEGIN:VCALENDAR
PRODID:-//SINGPromos.com//NONSGML v1.0//EN
VERSION:2.0
CALSCALE:GREGORIAN
METHOD:PUBLISH
X-WR-CALNAME:SINGPromos.com
X-ORIGINAL-URL:http://singpromos.com
X-WR-CALDESC:Events for SINGPromos.com
BEGIN:VEVENT
DTSTART:20160617T000000
DTEND:20160617T235900
DTSTAMP:20260420T055711
CREATED:20160617T002126
LAST-MODIFIED:20160617T002137
UID:182031@http://singpromos.com
SUMMARY:SK-II Cellumination Aura Essence 50ml at S$146 w/ Shipping 24hr Deal on 17 Jun 2016
DESCRIPTION:Get the SK-II Cellumination Aura Essence 50ml at just $146 (u.p. $299) inclusive of shipping. Made from SK-II's very own Soft Aura White Cocktail, combined with their signature ingredient, the Pitera gives you translucent skin.. For more information, visit [ http://singpromos.com/beauty/sk-ii-cellumination-aura-essence-50ml-at-s146-w-shipping-24hr-deal-on-17-jun-2016-182031/ ]. 
LOCATION:
URL:http://singpromos.com/beauty/sk-ii-cellumination-aura-essence-50ml-at-s146-w-shipping-24hr-deal-on-17-jun-2016-182031/
END:VEVENT
END:VCALENDAR