BEGIN:VCALENDAR
PRODID:-//SINGPromos.com//NONSGML v1.0//EN
VERSION:2.0
CALSCALE:GREGORIAN
METHOD:PUBLISH
X-WR-CALNAME:SINGPromos.com
X-ORIGINAL-URL:http://singpromos.com
X-WR-CALDESC:Events for SINGPromos.com
BEGIN:VEVENT
DTSTART:20160617T000000
DTEND:20160617T235900
DTSTAMP:20260420T042930
CREATED:20160617T002822
LAST-MODIFIED:20160617T234514
UID:182037@http://singpromos.com
SUMMARY:Groupon 8% OFF ALL Goods Deals NO Min Spend 24hr Coupon Code on 17 Jun 2016
DESCRIPTION:Get 8% off ALL goods deals with the promo code below at checkout at Groupon Singapore. The promo code is valid on goods deals only.. For more information, visit [ http://singpromos.com/department-stores/groupon-8-off-all-goods-deals-no-min-spend-24hr-coupon-code-on-17-jun-2016-182037/ ]. 
LOCATION:
URL:http://singpromos.com/department-stores/groupon-8-off-all-goods-deals-no-min-spend-24hr-coupon-code-on-17-jun-2016-182037/
END:VEVENT
END:VCALENDAR