BEGIN:VCALENDAR
PRODID:-//SINGPromos.com//NONSGML v1.0//EN
VERSION:2.0
CALSCALE:GREGORIAN
METHOD:PUBLISH
X-WR-CALNAME:SINGPromos.com
X-ORIGINAL-URL:http://singpromos.com
X-WR-CALDESC:Events for SINGPromos.com
BEGIN:VEVENT
DTSTART:20160617T000000
DTEND:20160619T235900
DTSTAMP:20260420T042929
CREATED:20160617T005848
LAST-MODIFIED:20160617T005848
UID:182040@http://singpromos.com
SUMMARY:Ben & Jerry's Ice Cream $19.99 for Two Pints at Cold Storage from 17 - 19 Jun 2016
DESCRIPTION:Check out Cold Storage's latest weekly deals featuring two tubs of Ben & Jerry's for $19.99, 17% off Doritos torilla chips, Gain IQ and many more. For more information, visit [ http://singpromos.com/dining-restaurants-food/ben-jerrys-ice-cream-19-99-for-two-pints-at-cold-storage-from-17-19-jun-2016-182040/ ]. 
LOCATION:
URL:http://singpromos.com/dining-restaurants-food/ben-jerrys-ice-cream-19-99-for-two-pints-at-cold-storage-from-17-19-jun-2016-182040/
END:VEVENT
END:VCALENDAR