BEGIN:VCALENDAR
PRODID:-//SINGPromos.com//NONSGML v1.0//EN
VERSION:2.0
CALSCALE:GREGORIAN
METHOD:PUBLISH
X-WR-CALNAME:SINGPromos.com
X-ORIGINAL-URL:http://singpromos.com
X-WR-CALDESC:Events for SINGPromos.com
BEGIN:VEVENT
DTSTART:20160617T000000
DTEND:20160619T235900
DTSTAMP:20260420T042901
CREATED:20160617T112915
LAST-MODIFIED:20160617T112915
UID:182051@http://singpromos.com
SUMMARY:Scoot Multiple City Promo Fares from 17 - 19 Jun 2016
DESCRIPTION:Scoot off to one city and return from another! Get more bang for your buck as you visit multiple cities in one trip with Scoot's latest promotion. For more information, visit [ http://singpromos.com/airlines-flights/scoot-multiple-city-promo-fares-from-17-19-jun-2016-182051/ ]. 
LOCATION:
URL:http://singpromos.com/airlines-flights/scoot-multiple-city-promo-fares-from-17-19-jun-2016-182051/
END:VEVENT
END:VCALENDAR