BEGIN:VCALENDAR
PRODID:-//SINGPromos.com//NONSGML v1.0//EN
VERSION:2.0
CALSCALE:GREGORIAN
METHOD:PUBLISH
X-WR-CALNAME:SINGPromos.com
X-ORIGINAL-URL:http://singpromos.com
X-WR-CALDESC:Events for SINGPromos.com
BEGIN:VEVENT
DTSTART:20160617T000000
DTEND:20160930T235900
DTSTAMP:20260420T060535
CREATED:20160617T122633
LAST-MODIFIED:20161001T115445
UID:182056@http://singpromos.com
SUMMARY:(Over 3400 Sold) Cold Stone Creamery: Almost 50% Off Love-It Ice Cream Cups at 5 Outlets from 17 Jun 2016
DESCRIPTION:Indulge in a variety of premium ice cream flavours mixed with fruit, candy, and cookies atop a chilled granite slab handcrafted daily onsite with this deal: $9.25 for 2 Cups of 6oz Love-It Ice Cream (worth $17) at five outlets. For more information, visit [ http://singpromos.com/dining-restaurants-food/cold-stone-creamery-nearly-50-off-love-it-ice-cream-cups-at-5-outlets-from-17-jun-2016-182056/ ]. 
LOCATION:
URL:http://singpromos.com/dining-restaurants-food/cold-stone-creamery-nearly-50-off-love-it-ice-cream-cups-at-5-outlets-from-17-jun-2016-182056/
END:VEVENT
END:VCALENDAR