BEGIN:VCALENDAR
PRODID:-//SINGPromos.com//NONSGML v1.0//EN
VERSION:2.0
CALSCALE:GREGORIAN
METHOD:PUBLISH
X-WR-CALNAME:SINGPromos.com
X-ORIGINAL-URL:http://singpromos.com
X-WR-CALDESC:Events for SINGPromos.com
BEGIN:VEVENT
DTSTART:20160617T000000
DTEND:20160619T235900
DTSTAMP:20260420T055711
CREATED:20160617T124756
LAST-MODIFIED:20160617T124806
UID:182066@http://singpromos.com
SUMMARY:Crocs 30% Off All Men's Footwear 72hr Promo from 17 - 19 Jun 2016
DESCRIPTION:Crocs is having a Father's Day promotion: Enjoy 30% off all men's footwear till 19 June 2016. For more information, visit [ http://singpromos.com/footwear/crocs-30-off-all-mens-footwear-72hr-promo-from-17-19-jun-2016-182066/ ]. 
LOCATION:
URL:http://singpromos.com/footwear/crocs-30-off-all-mens-footwear-72hr-promo-from-17-19-jun-2016-182066/
END:VEVENT
END:VCALENDAR