BEGIN:VCALENDAR
PRODID:-//SINGPromos.com//NONSGML v1.0//EN
VERSION:2.0
CALSCALE:GREGORIAN
METHOD:PUBLISH
X-WR-CALNAME:SINGPromos.com
X-ORIGINAL-URL:http://singpromos.com
X-WR-CALDESC:Events for SINGPromos.com
BEGIN:VEVENT
DTSTART:20160617T000000
DTEND:20160619T235900
DTSTAMP:20260420T060536
CREATED:20160617T182215
LAST-MODIFIED:20160617T182215
UID:182098@http://singpromos.com
SUMMARY:Metro 20% Off Storewide Promotion from 17 - 19 Jun 2016
DESCRIPTION:From 17 to 19 Jun 2016, enjoy 20% off storewide at Metro including cosmetics and fragrances as they set sale into summer. For more information, visit [ http://singpromos.com/department-stores/metro-20-off-storewide-promotion-from-17-19-jun-2016-182098/ ]. 
LOCATION:
URL:http://singpromos.com/department-stores/metro-20-off-storewide-promotion-from-17-19-jun-2016-182098/
END:VEVENT
END:VCALENDAR