BEGIN:VCALENDAR
PRODID:-//SINGPromos.com//NONSGML v1.0//EN
VERSION:2.0
CALSCALE:GREGORIAN
METHOD:PUBLISH
X-WR-CALNAME:SINGPromos.com
X-ORIGINAL-URL:http://singpromos.com
X-WR-CALDESC:Events for SINGPromos.com
BEGIN:VEVENT
DTSTART:20160618T000000
DTEND:20160618T235900
DTSTAMP:20260420T042928
CREATED:20160617T214600
LAST-MODIFIED:20160617T215004
UID:182112@http://singpromos.com
SUMMARY:Chocolate Origin Free Gelato Giveaway at Bugis Junction on 18 Jun 2016
DESCRIPTION:Have you heard about Chocolate Origin's big gelato giveaway on 18 June? First 50 in line also get a set of an adorable limited edition badge. For more information, visit [ http://singpromos.com/dining-restaurants-food/chocolate-origin-free-gelato-giveaway-at-bugis-junction-on-18-jun-2016-182112/ ]. 
LOCATION:188021
URL:http://singpromos.com/dining-restaurants-food/chocolate-origin-free-gelato-giveaway-at-bugis-junction-on-18-jun-2016-182112/
END:VEVENT
END:VCALENDAR