BEGIN:VCALENDAR
PRODID:-//SINGPromos.com//NONSGML v1.0//EN
VERSION:2.0
CALSCALE:GREGORIAN
METHOD:PUBLISH
X-WR-CALNAME:SINGPromos.com
X-ORIGINAL-URL:http://singpromos.com
X-WR-CALDESC:Events for SINGPromos.com
BEGIN:VEVENT
DTSTART:20160618T000000
DTEND:20160618T235900
DTSTAMP:20260420T042932
CREATED:20160618T003121
LAST-MODIFIED:20160619T002215
UID:182120@http://singpromos.com
SUMMARY:Groupon 5% to 25% OFF ALL Beauty, Services, Dining Deals (NO Min Spend) on 18 Jun 2016
DESCRIPTION:Get 5% to 25% off ALL Beauty, Services, Dining deals with the promo code below at checkout at Groupon Singapore. Valid only for Beauty, Services, Dining deals (Beauty 25%, Services 15%, Dining 5%). For more information, visit [ http://singpromos.com/department-stores/groupon-5-to-25-off-all-beauty-services-dining-deals-no-min-spend-on-18-jun-2016-182120/ ]. 
LOCATION:
URL:http://singpromos.com/department-stores/groupon-5-to-25-off-all-beauty-services-dining-deals-no-min-spend-on-18-jun-2016-182120/
END:VEVENT
END:VCALENDAR