BEGIN:VCALENDAR
PRODID:-//SINGPromos.com//NONSGML v1.0//EN
VERSION:2.0
CALSCALE:GREGORIAN
METHOD:PUBLISH
X-WR-CALNAME:SINGPromos.com
X-ORIGINAL-URL:http://singpromos.com
X-WR-CALDESC:Events for SINGPromos.com
BEGIN:VEVENT
DTSTART:20160618T000000
DTEND:20160619T235900
DTSTAMP:20260420T055706
CREATED:20160618T003916
LAST-MODIFIED:20160618T110241
UID:182123@http://singpromos.com
SUMMARY:SK-II Cellumination Aura Essence 50ml at S$143 w/ Shipping 48hr Deal from 18 - 19 Jun 2016
DESCRIPTION:Get the SK-II Cellumination Aura Essence 50ml at just $143 (u.p. $299) inclusive of shipping. Made from SK-II's very own Soft Aura White Cocktail, combined with their signature ingredient, the Pitera gives you translucent skin.. For more information, visit [ http://singpromos.com/beauty/sk-ii-cellumination-aura-essence-50ml-at-s143-w-shipping-48hrdeal-from-18-19-jun-2016-182123/ ]. 
LOCATION:
URL:http://singpromos.com/beauty/sk-ii-cellumination-aura-essence-50ml-at-s143-w-shipping-48hrdeal-from-18-19-jun-2016-182123/
END:VEVENT
END:VCALENDAR