BEGIN:VCALENDAR
PRODID:-//SINGPromos.com//NONSGML v1.0//EN
VERSION:2.0
CALSCALE:GREGORIAN
METHOD:PUBLISH
X-WR-CALNAME:SINGPromos.com
X-ORIGINAL-URL:http://singpromos.com
X-WR-CALDESC:Events for SINGPromos.com
BEGIN:VEVENT
DTSTART:20160616T000000
DTEND:20160629T235900
DTSTAMP:20260420T055705
CREATED:20160618T034442
LAST-MODIFIED:20160618T004946
UID:182126@http://singpromos.com
SUMMARY:Fairprice 20% Off Selected Energizer & Panasonic Chargers, Torchlights, Bulbs & More from 16 - 29 Jun 2016
DESCRIPTION:Check out 20% off selected Energizer chargers, torchlights, LED bike lights and Panasonic bulbs (including LED) at Fairprice valid till 18 Jun 2016. For more information, visit [ http://singpromos.com/household/fairprice-20-off-selected-energizer-panasonic-chargers-torchlights-bulbs-more-from-16-29-jun-2016-182126/ ]. 
LOCATION:
URL:http://singpromos.com/household/fairprice-20-off-selected-energizer-panasonic-chargers-torchlights-bulbs-more-from-16-29-jun-2016-182126/
END:VEVENT
END:VCALENDAR