BEGIN:VCALENDAR
PRODID:-//SINGPromos.com//NONSGML v1.0//EN
VERSION:2.0
CALSCALE:GREGORIAN
METHOD:PUBLISH
X-WR-CALNAME:SINGPromos.com
X-ORIGINAL-URL:http://singpromos.com
X-WR-CALDESC:Events for SINGPromos.com
BEGIN:VEVENT
DTSTART:20160704T000000
DTEND:20160731T235900
DTSTAMP:20260420T055706
CREATED:20160618T155943
LAST-MODIFIED:20160618T010259
UID:182129@http://singpromos.com
SUMMARY:IKEA Special Deals Offers from 4 - 31 Jul 2016
DESCRIPTION:Enjoy discounts you can take advantage of as a member of IKEA Family (membership is free). If you are not a member, sign-up for free as an IKEA FAMILY member in the store to get your Temporary Card before making your purchase.. For more information, visit [ http://singpromos.com/department-stores/ikea-special-deals-offers-from-4-31-jul-2016-182129/ ]. 
LOCATION:
URL:http://singpromos.com/department-stores/ikea-special-deals-offers-from-4-31-jul-2016-182129/
END:VEVENT
END:VCALENDAR