BEGIN:VCALENDAR
PRODID:-//SINGPromos.com//NONSGML v1.0//EN
VERSION:2.0
CALSCALE:GREGORIAN
METHOD:PUBLISH
X-WR-CALNAME:SINGPromos.com
X-ORIGINAL-URL:http://singpromos.com
X-WR-CALDESC:Events for SINGPromos.com
BEGIN:VEVENT
DTSTART:20160619T000000
DTEND:20160619T235900
DTSTAMP:20260420T055706
CREATED:20160619T135313
LAST-MODIFIED:20160619T233943
UID:182176@http://singpromos.com
SUMMARY:Cotton On 30% OFF Almost Storewide Men, Women, Kids, Typo, Rubi & More on 19 Jun 2016
DESCRIPTION:Enjoy 30% off almost everything sitewide (Women, Men, Kids, Typo, Rubi, etc) at Cotton On's online store. Offer applies to selected full price items and also includes Typo sale items.. For more information, visit [ http://singpromos.com/fashion-accessories/cotton-on-30-off-almost-storewide-men-women-kids-typo-rubi-more-on-19-jun-2016-182176/ ]. 
LOCATION:
URL:http://singpromos.com/fashion-accessories/cotton-on-30-off-almost-storewide-men-women-kids-typo-rubi-more-on-19-jun-2016-182176/
END:VEVENT
END:VCALENDAR