BEGIN:VCALENDAR
PRODID:-//SINGPromos.com//NONSGML v1.0//EN
VERSION:2.0
CALSCALE:GREGORIAN
METHOD:PUBLISH
X-WR-CALNAME:SINGPromos.com
X-ORIGINAL-URL:http://singpromos.com
X-WR-CALDESC:Events for SINGPromos.com
BEGIN:VEVENT
DTSTART:20160623T000000
DTEND:20160626T235900
DTSTAMP:20260420T055706
CREATED:20160619T153354
LAST-MODIFIED:20160620T010909
UID:182181@http://singpromos.com
SUMMARY:IT & Electronics the Great Singapore Expo Sale from 23 - 26 Jun 2016
DESCRIPTION:Courts will be having an IT & Electronics the Great Singapore Expo Sale 2016 event at Singapore Expo Hall 5A from 23 June to 26 June 2016, 11am to 9pm. For more information, visit [ http://singpromos.com/department-stores/it-electronics-the-great-singapore-expo-sale-from-23-26-jun-2016-182181/ ]. 
LOCATION:486150
URL:http://singpromos.com/department-stores/it-electronics-the-great-singapore-expo-sale-from-23-26-jun-2016-182181/
END:VEVENT
END:VCALENDAR