BEGIN:VCALENDAR
PRODID:-//SINGPromos.com//NONSGML v1.0//EN
VERSION:2.0
CALSCALE:GREGORIAN
METHOD:PUBLISH
X-WR-CALNAME:SINGPromos.com
X-ORIGINAL-URL:http://singpromos.com
X-WR-CALDESC:Events for SINGPromos.com
BEGIN:VEVENT
DTSTART:20160620T000000
DTEND:20160626T235900
DTSTAMP:20260420T073858
CREATED:20160620T202048
LAST-MODIFIED:20160620T202228
UID:182191@http://singpromos.com
SUMMARY:Courts $50 OFF $399 Spend Storewide Discount Coupon Promotion Code for NTUC Plus! Members from 20 - 26 Jun 2016
DESCRIPTION:Get $50 OFF discount off at the Courts online store with a minimum spend of $399 . Courts online store at promises the Lowest Prices Guaranteed, 30-Day Hassle-Free Exchange, Cash on Delivery and a Secured Checkout. For more information, visit [ http://singpromos.com/department-stores/courts-50-off-399-spend-storewide-discount-coupon-promotion-code-for-ntuc-plus-members-from-20-26-jun-2016-182191/ ]. 
LOCATION:
URL:http://singpromos.com/department-stores/courts-50-off-399-spend-storewide-discount-coupon-promotion-code-for-ntuc-plus-members-from-20-26-jun-2016-182191/
END:VEVENT
END:VCALENDAR