BEGIN:VCALENDAR
PRODID:-//SINGPromos.com//NONSGML v1.0//EN
VERSION:2.0
CALSCALE:GREGORIAN
METHOD:PUBLISH
X-WR-CALNAME:SINGPromos.com
X-ORIGINAL-URL:http://singpromos.com
X-WR-CALDESC:Events for SINGPromos.com
BEGIN:VEVENT
DTSTART:20160620T000000
DTEND:20160704T235900
DTSTAMP:20260420T055711
CREATED:20160620T105255
LAST-MODIFIED:20160620T105333
UID:182206@http://singpromos.com
SUMMARY:Qoo10 Free $15 & $35 Cart Coupons Giveaway for OCBC Cardmembers Mondays from 20 Jun - 4 Jul 2016
DESCRIPTION:Qoo10 is having a OCBC Monday Specials featuring free cart coupons worth $15 and $35 on Mondays till 4 July 2016. For more information, visit [ http://singpromos.com/department-stores/qoo10-free-15-35-cart-coupons-giveaway-for-ocbc-cardmembers-mondays-from-20-jun-4-jul-2016-182206/ ]. 
LOCATION:
URL:http://singpromos.com/department-stores/qoo10-free-15-35-cart-coupons-giveaway-for-ocbc-cardmembers-mondays-from-20-jun-4-jul-2016-182206/
END:VEVENT
END:VCALENDAR