BEGIN:VCALENDAR
PRODID:-//SINGPromos.com//NONSGML v1.0//EN
VERSION:2.0
CALSCALE:GREGORIAN
METHOD:PUBLISH
X-WR-CALNAME:SINGPromos.com
X-ORIGINAL-URL:http://singpromos.com
X-WR-CALDESC:Events for SINGPromos.com
BEGIN:VEVENT
DTSTART:20160621T000000
DTEND:20160621T235900
DTSTAMP:20260420T073907
CREATED:20160620T130752
LAST-MODIFIED:20160620T132347
UID:182224@http://singpromos.com
SUMMARY:Scoot fr $48 all-in 2hr Take Off Tuesday Promo (7am to 9am) on 21 Jun 2016
DESCRIPTION:Escape the ordinary with Super Scootee. Fly to Taipei, Tokyo, Jaipur, Jeddah, Sydney, Bangkok & more from $48 (all-in fare). For more information, visit [ http://singpromos.com/airlines-flights/scoot-fr-48-all-in-2hr-take-off-tuesday-promo-7am-to-9am-on-21-jun-2016-182224/ ]. 
LOCATION:
URL:http://singpromos.com/airlines-flights/scoot-fr-48-all-in-2hr-take-off-tuesday-promo-7am-to-9am-on-21-jun-2016-182224/
END:VEVENT
END:VCALENDAR