BEGIN:VCALENDAR
PRODID:-//SINGPromos.com//NONSGML v1.0//EN
VERSION:2.0
CALSCALE:GREGORIAN
METHOD:PUBLISH
X-WR-CALNAME:SINGPromos.com
X-ORIGINAL-URL:http://singpromos.com
X-WR-CALDESC:Events for SINGPromos.com
BEGIN:VEVENT
DTSTART:20160620T000000
DTEND:20160626T235900
DTSTAMP:20260420T073907
CREATED:20160620T145132
LAST-MODIFIED:20160620T145459
UID:182228@http://singpromos.com
SUMMARY:ANZ Optimum World Card Apply & Get OTO e‑Sole Foot Massager worth $398 & $100 Cash Rebate from 20 - 26 Jun 2016
DESCRIPTION:ANZ's Optimum World MasterCard Credit Card provides 5% cash rebate on Dining & Leisure, Travel, Shopping or Groceries. Apply now and get $100 cash rebate and $398 OTO MASSAGER. Annual fees are waived for the first year. For more information, visit [ http://singpromos.com/banks-credit-cards/anz-optimum-world-card-apply-get-oto-e%e2%80%91sole-foot-massager-worth-398-100-cash-rebate-from-20-26-jun-2016-182228/ ]. 
LOCATION:
URL:http://singpromos.com/banks-credit-cards/anz-optimum-world-card-apply-get-oto-e%e2%80%91sole-foot-massager-worth-398-100-cash-rebate-from-20-26-jun-2016-182228/
END:VEVENT
END:VCALENDAR