BEGIN:VCALENDAR
PRODID:-//SINGPromos.com//NONSGML v1.0//EN
VERSION:2.0
CALSCALE:GREGORIAN
METHOD:PUBLISH
X-WR-CALNAME:SINGPromos.com
X-ORIGINAL-URL:http://singpromos.com
X-WR-CALDESC:Events for SINGPromos.com
BEGIN:VEVENT
DTSTART:20160620T000000
DTEND:20160621T235900
DTSTAMP:20260420T073907
CREATED:20160620T151626
LAST-MODIFIED:20160620T151626
UID:182242@http://singpromos.com
SUMMARY:Amazon Save on Selected SSDs, Graphic Cards & More 24hr Deal from 20 - 21 Jun 2016
DESCRIPTION:Save on selected PC components and accessories - Graphic Card, Power Supply, Router, SSD, Mechanical Gaming Keyboard, Mid Tower Case, Gaming Headset, DDR4 Memory, NAS and many more. For more information, visit [ http://singpromos.com/computers-pc/amazon-save-on-selected-ssds-graphic-cards-more-24hr-deal-from-20-21-jun-2016-182242/ ]. 
LOCATION:
URL:http://singpromos.com/computers-pc/amazon-save-on-selected-ssds-graphic-cards-more-24hr-deal-from-20-21-jun-2016-182242/
END:VEVENT
END:VCALENDAR