BEGIN:VCALENDAR
PRODID:-//SINGPromos.com//NONSGML v1.0//EN
VERSION:2.0
CALSCALE:GREGORIAN
METHOD:PUBLISH
X-WR-CALNAME:SINGPromos.com
X-ORIGINAL-URL:http://singpromos.com
X-WR-CALDESC:Events for SINGPromos.com
BEGIN:VEVENT
DTSTART:20160620T000000
DTEND:20160626T235900
DTSTAMP:20260420T073147
CREATED:20160621T134015
LAST-MODIFIED:20160626T203134
UID:182245@http://singpromos.com
SUMMARY:ANZ Switch Card Apply & Get $398 OTO Massager + $100 Cash Rebate (NO Annual Fees) from 20 - 26 Jun 2016
DESCRIPTION:Enjoy NO annual fees (even for supplementary cards!) plus up to 20.3% savings on petrol at Caltex. From 20 - 26 June 2016, apply & get a $398 OTO Massager Online Exclusive and $100 cash rebate. For more information, visit [ http://singpromos.com/banks-credit-cards/anz-switch-card-apply-get-398-oto-massager-100-cash-rebate-no-annual-fees-from-20-26-jun-2016-182245/ ]. 
LOCATION:
URL:http://singpromos.com/banks-credit-cards/anz-switch-card-apply-get-398-oto-massager-100-cash-rebate-no-annual-fees-from-20-26-jun-2016-182245/
END:VEVENT
END:VCALENDAR