BEGIN:VCALENDAR
PRODID:-//SINGPromos.com//NONSGML v1.0//EN
VERSION:2.0
CALSCALE:GREGORIAN
METHOD:PUBLISH
X-WR-CALNAME:SINGPromos.com
X-ORIGINAL-URL:http://singpromos.com
X-WR-CALDESC:Events for SINGPromos.com
BEGIN:VEVENT
DTSTART:20160621T000000
DTEND:20160706T235900
DTSTAMP:20260420T073145
CREATED:20160621T133937
LAST-MODIFIED:20160702T013007
UID:182252@http://singpromos.com
SUMMARY:Sanrio & Branded Toys Up To 90% Off Sale at Marina Square from 21 Jun - 6 Jul 2016
DESCRIPTION:Megcorp & Co will be having a June Holiday Super Sale from 21 June to 30 June at Marina Square Central Atrium. Prices start from $1 for Sanrio Hello Kitty plushies, stationery, bags, bottles, watches and many more. For more information, visit [ http://singpromos.com/happenings/sanrio-branded-toys-up-to-90-off-sale-at-marina-square-from-21-30-jun-2016-182252/ ]. 
LOCATION:039594
URL:http://singpromos.com/happenings/sanrio-branded-toys-up-to-90-off-sale-at-marina-square-from-21-30-jun-2016-182252/
END:VEVENT
END:VCALENDAR