BEGIN:VCALENDAR
PRODID:-//SINGPromos.com//NONSGML v1.0//EN
VERSION:2.0
CALSCALE:GREGORIAN
METHOD:PUBLISH
X-WR-CALNAME:SINGPromos.com
X-ORIGINAL-URL:http://singpromos.com
X-WR-CALDESC:Events for SINGPromos.com
BEGIN:VEVENT
DTSTART:20160627T000000
DTEND:20160629T235900
DTSTAMP:20260420T073907
CREATED:20160620T215136
LAST-MODIFIED:20160620T215136
UID:182262@http://singpromos.com
SUMMARY:SuperMom Pre-Order Sales Up to 90% Off from 27 - 29 Jun 2016
DESCRIPTION:For 3 days only, pre-order online and beat the crowd! Save up to 90% over 300 essential pregnancy and baby products. On top on that, get additional perks such as cashback, free casting, and free strollers, breastpump and more. For more information, visit [ http://singpromos.com/department-stores/supermom-pre-order-sales-up-to-90-off-from-27-29-jun-2016-182262/ ]. 
LOCATION:
URL:http://singpromos.com/department-stores/supermom-pre-order-sales-up-to-90-off-from-27-29-jun-2016-182262/
END:VEVENT
END:VCALENDAR