BEGIN:VCALENDAR
PRODID:-//SINGPromos.com//NONSGML v1.0//EN
VERSION:2.0
CALSCALE:GREGORIAN
METHOD:PUBLISH
X-WR-CALNAME:SINGPromos.com
X-ORIGINAL-URL:http://singpromos.com
X-WR-CALDESC:Events for SINGPromos.com
BEGIN:VEVENT
DTSTART:20160622T000000
DTEND:20160622T235900
DTSTAMP:20260420T073201
CREATED:20160621T005020
LAST-MODIFIED:20160621T132621
UID:182267@http://singpromos.com
SUMMARY:Watsons 1-Day Sale 1-for-1, Up To 60% Off & More for DBS/POSB Cardholders on 22 Jun 2016
DESCRIPTION:Watsons will be having a sale on 22 June at 62 stores only exclusively for DBS/POSB Credit/Debit cardmembers and Watsons members. Up to 60% off hot buys. many 1-for-1 offers, Spend & Redeem Freebies and more. For more information, visit [ http://singpromos.com/department-stores/watsons-1-day-sale-1-for-1-up-to-60-off-more-for-dbsposb-cardholders-on-22-jun-2016-182267/ ]. 
LOCATION:
URL:http://singpromos.com/department-stores/watsons-1-day-sale-1-for-1-up-to-60-off-more-for-dbsposb-cardholders-on-22-jun-2016-182267/
END:VEVENT
END:VCALENDAR