BEGIN:VCALENDAR
PRODID:-//SINGPromos.com//NONSGML v1.0//EN
VERSION:2.0
CALSCALE:GREGORIAN
METHOD:PUBLISH
X-WR-CALNAME:SINGPromos.com
X-ORIGINAL-URL:http://singpromos.com
X-WR-CALDESC:Events for SINGPromos.com
BEGIN:VEVENT
DTSTART:20160621T000000
DTEND:20160630T235900
DTSTAMP:20260420T073145
CREATED:20160621T124352
LAST-MODIFIED:20160621T124352
UID:182285@http://singpromos.com
SUMMARY:Redmart up to 40% Off Gourmet Food & Wine Sale from 21 - 30 Jun 2016
DESCRIPTION:Save up to 40% off at Redmart's Gourmet Food & Wine Sale till 30 June. For more information, visit [ http://singpromos.com/department-stores/redmart-up-to-40-off-gourmet-food-wine-sale-from-21-30-jun-2016-182285/ ]. 
LOCATION:
URL:http://singpromos.com/department-stores/redmart-up-to-40-off-gourmet-food-wine-sale-from-21-30-jun-2016-182285/
END:VEVENT
END:VCALENDAR