BEGIN:VCALENDAR
PRODID:-//SINGPromos.com//NONSGML v1.0//EN
VERSION:2.0
CALSCALE:GREGORIAN
METHOD:PUBLISH
X-WR-CALNAME:SINGPromos.com
X-ORIGINAL-URL:http://singpromos.com
X-WR-CALDESC:Events for SINGPromos.com
BEGIN:VEVENT
DTSTART:20160621T000000
DTEND:20160623T235900
DTSTAMP:20260420T073201
CREATED:20160621T125214
LAST-MODIFIED:20160621T125214
UID:182288@http://singpromos.com
SUMMARY:Cebu Pacific $99 all-in Manila Promo Fares from 21 - 23 Jun 2016
DESCRIPTION:Go walking on sunshine. Singapore to Manila for as low as $99 all-in. For more information, visit [ http://singpromos.com/airlines-flights/cebu-pacific-99-all-in-manila-promo-fares-from-21-23-jun-2016-182288/ ]. 
LOCATION:
URL:http://singpromos.com/airlines-flights/cebu-pacific-99-all-in-manila-promo-fares-from-21-23-jun-2016-182288/
END:VEVENT
END:VCALENDAR