BEGIN:VCALENDAR
PRODID:-//SINGPromos.com//NONSGML v1.0//EN
VERSION:2.0
CALSCALE:GREGORIAN
METHOD:PUBLISH
X-WR-CALNAME:SINGPromos.com
X-ORIGINAL-URL:http://singpromos.com
X-WR-CALDESC:Events for SINGPromos.com
BEGIN:VEVENT
DTSTART:20160621T000000
DTEND:20160630T235900
DTSTAMP:20260420T073201
CREATED:20160621T184811
LAST-MODIFIED:20160621T184811
UID:182312@http://singpromos.com
SUMMARY:Redmart $10 Off w/ Free Delivery Coupon Code for New Customers from 21 - 30 Jun 2016
DESCRIPTION:Redmart offers $10 off for new customers with the below coupon code. Minimum $30 spend. Includes FREE delivery for first time orders.. For more information, visit [ http://singpromos.com/department-stores/redmart-10-off-w-free-delivery-coupon-code-for-new-customers-from-21-30-jun-2016-182312/ ]. 
LOCATION:
URL:http://singpromos.com/department-stores/redmart-10-off-w-free-delivery-coupon-code-for-new-customers-from-21-30-jun-2016-182312/
END:VEVENT
END:VCALENDAR