BEGIN:VCALENDAR
PRODID:-//SINGPromos.com//NONSGML v1.0//EN
VERSION:2.0
CALSCALE:GREGORIAN
METHOD:PUBLISH
X-WR-CALNAME:SINGPromos.com
X-ORIGINAL-URL:http://singpromos.com
X-WR-CALDESC:Events for SINGPromos.com
BEGIN:VEVENT
DTSTART:20160701T000000
DTEND:20160703T235900
DTSTAMP:20260420T031307
CREATED:20160622T110507
LAST-MODIFIED:20160622T110550
UID:182333@http://singpromos.com
SUMMARY:Brandt Up To 80% Off Family Carnival Sale from 1 - 3 Jul 2016
DESCRIPTION:It's a family party over the weekend with the first ever Brandt Family Carnival Sale with home appliances at up to 80% off on selected items from 1 - 3 July. For more information, visit [ http://singpromos.com/warehouse-sales/brandt-up-to-80-off-family-carnival-sale-from-1-3-jul-2016-182333/ ]. 
LOCATION:Ubi Road 1, 408729
URL:http://singpromos.com/warehouse-sales/brandt-up-to-80-off-family-carnival-sale-from-1-3-jul-2016-182333/
END:VEVENT
END:VCALENDAR