BEGIN:VCALENDAR
PRODID:-//SINGPromos.com//NONSGML v1.0//EN
VERSION:2.0
CALSCALE:GREGORIAN
METHOD:PUBLISH
X-WR-CALNAME:SINGPromos.com
X-ORIGINAL-URL:http://singpromos.com
X-WR-CALDESC:Events for SINGPromos.com
BEGIN:VEVENT
DTSTART:20160625T000000
DTEND:20160626T235900
DTSTAMP:20260420T074739
CREATED:20160625T002257
LAST-MODIFIED:20160625T121313
UID:182560@http://singpromos.com
SUMMARY:SK-II Cellumination Aura Essence 50ml at S$144 w/ Shipping 48hr Deal from 25 - 26 Jun 2016
DESCRIPTION:Get the SK-II Cellumination Aura Essence 50ml at just $144 (u.p. $299) inclusive of shipping. Made from SK-II's very own Soft Aura White Cocktail, combined with their signature ingredient, the Pitera gives you translucent skin.. For more information, visit [ http://singpromos.com/beauty/sk-ii-cellumination-aura-essence-50ml-at-s144-w-shipping-48hr-deal-from-25-26-jun-2016-182560/ ]. 
LOCATION:
URL:http://singpromos.com/beauty/sk-ii-cellumination-aura-essence-50ml-at-s144-w-shipping-48hr-deal-from-25-26-jun-2016-182560/
END:VEVENT
END:VCALENDAR