BEGIN:VCALENDAR
PRODID:-//SINGPromos.com//NONSGML v1.0//EN
VERSION:2.0
CALSCALE:GREGORIAN
METHOD:PUBLISH
X-WR-CALNAME:SINGPromos.com
X-ORIGINAL-URL:http://singpromos.com
X-WR-CALDESC:Events for SINGPromos.com
BEGIN:VEVENT
DTSTART:20160630T000000
DTEND:20160710T235900
DTSTAMP:20260420T003450
CREATED:20160629T155033
LAST-MODIFIED:20160708T172810
UID:182772@http://singpromos.com
SUMMARY:Robinsons Expo up to 80% off from 30 Jun - 10 Jul 2016
DESCRIPTION:Robinsons Expo will be back and happening at Singapore Expo Hall 5 from 30 June to 10 July 2016. Up to 80% discount on items ranging from Toiletries, Health Supplements, International & Local Designers Wear, Shoes & Watches and more. For more information, visit [ http://singpromos.com/happenings/robinsons-expo-up-to-80-off-from-30-jun-10-jul-2016-182772/ ]. 
LOCATION:486150
URL:http://singpromos.com/happenings/robinsons-expo-up-to-80-off-from-30-jun-10-jul-2016-182772/
END:VEVENT
END:VCALENDAR