BEGIN:VCALENDAR
PRODID:-//SINGPromos.com//NONSGML v1.0//EN
VERSION:2.0
CALSCALE:GREGORIAN
METHOD:PUBLISH
X-WR-CALNAME:SINGPromos.com
X-ORIGINAL-URL:http://singpromos.com
X-WR-CALDESC:Events for SINGPromos.com
BEGIN:VEVENT
DTSTART:20111101T000000
DTEND:20120131T235900
DTSTAMP:20260420T035215
CREATED:20111108T191916
LAST-MODIFIED:20111108T191916
UID:18390@http://singpromos.com
SUMMARY:Hi-Beau Avalon & ChocoMarvel Special Offers @ Great Health & Beauty Bonanza 1 Nov 2011 - 31 Jan 2012
DESCRIPTION:Items listed are Avalon Probiotic Detox, Avalon Japanese Fish Collagen, ChocoMarvel, Avalon Aloo Multiple Detox, Avalon Fat Burner and Avalon American Ginseng Slice with Honey. Available at Guardian, John Little, OG, Robinsons, Unity, Watsons and more. For more information, visit [ http://singpromos.com/health/hi-beau-avalon-chocomarvel-special-offers-great-health-beauty-bonanza-1-nov-2011-31-jan-2012-18390/ ]. 
LOCATION:
URL:http://singpromos.com/health/hi-beau-avalon-chocomarvel-special-offers-great-health-beauty-bonanza-1-nov-2011-31-jan-2012-18390/
END:VEVENT
END:VCALENDAR