BEGIN:VCALENDAR
PRODID:-//SINGPromos.com//NONSGML v1.0//EN
VERSION:2.0
CALSCALE:GREGORIAN
METHOD:PUBLISH
X-WR-CALNAME:SINGPromos.com
X-ORIGINAL-URL:http://singpromos.com
X-WR-CALDESC:Events for SINGPromos.com
BEGIN:VEVENT
DTSTART:20160811T000000
DTEND:20160812T235900
DTSTAMP:20260420T045219
CREATED:20160811T164031
LAST-MODIFIED:20160811T164408
UID:186010@http://singpromos.com
SUMMARY:Amazon: Nerf Toys - Up to 50% Off 24hr Deal from 11 - 12 Aug 2016
DESCRIPTION:For a limited time only while supplies last, save up to 50% off selected NERF toys with Amazon's 24hr Gold Box deal of the day. For more information, visit [ http://singpromos.com/kids/amazon-nerf-toys-up-to-50-off-24hr-deal-from-11-12-aug-2016-186010/ ]. 
LOCATION:
URL:http://singpromos.com/kids/amazon-nerf-toys-up-to-50-off-24hr-deal-from-11-12-aug-2016-186010/
END:VEVENT
END:VCALENDAR