BEGIN:VCALENDAR
PRODID:-//SINGPromos.com//NONSGML v1.0//EN
VERSION:2.0
CALSCALE:GREGORIAN
METHOD:PUBLISH
X-WR-CALNAME:SINGPromos.com
X-ORIGINAL-URL:http://singpromos.com
X-WR-CALDESC:Events for SINGPromos.com
BEGIN:VEVENT
DTSTART:20160901T000000
DTEND:20160905T235900
DTSTAMP:20260424T032414
CREATED:20160817T191733
LAST-MODIFIED:20160829T125806
UID:186411@http://singpromos.com
SUMMARY:King Koil: Annual Warehouse Sale (Private Sale on 1 Sep) from 1 - 5 Sep 2016
DESCRIPTION:The King Koil Annual Warehouse Sale is BACK featuring massive savings! There will be better deals & steals from a wide range of products including Mattresses, Bedding, Linen, Furniture & Sofas.. For more information, visit [ http://singpromos.com/warehouse-sales/king-koil-annual-warehouse-sale-from-1-5-sep-2016-186411/ ]. 
LOCATION:13 Sungei Kadut Way, 728792
URL:http://singpromos.com/warehouse-sales/king-koil-annual-warehouse-sale-from-1-5-sep-2016-186411/
END:VEVENT
END:VCALENDAR