BEGIN:VCALENDAR
PRODID:-//SINGPromos.com//NONSGML v1.0//EN
VERSION:2.0
CALSCALE:GREGORIAN
METHOD:PUBLISH
X-WR-CALNAME:SINGPromos.com
X-ORIGINAL-URL:http://singpromos.com
X-WR-CALDESC:Events for SINGPromos.com
BEGIN:VEVENT
DTSTART:20160902T000000
DTEND:20160912T235900
DTSTAMP:20260420T003430
CREATED:20160902T190222
LAST-MODIFIED:20160902T194005
UID:187568@http://singpromos.com
SUMMARY:Robinsons Expo: Up to 80% off at Singapore Expo from 2 - 12 Sep 2016
DESCRIPTION:Robinsons Expo is back and happening at Singapore Expo Hall 4 from 2 September to 12 September 2016, 10.30am to 10pm. With exciting brands on board like Billabong, G2000, WMF and more!. For more information, visit [ http://singpromos.com/happenings/robinsons-expo-up-to-80-off-at-singapore-expo-from-2-12-sep-2016-187568/ ]. 
LOCATION:486150
URL:http://singpromos.com/happenings/robinsons-expo-up-to-80-off-at-singapore-expo-from-2-12-sep-2016-187568/
END:VEVENT
END:VCALENDAR