BEGIN:VCALENDAR
PRODID:-//SINGPromos.com//NONSGML v1.0//EN
VERSION:2.0
CALSCALE:GREGORIAN
METHOD:PUBLISH
X-WR-CALNAME:SINGPromos.com
X-ORIGINAL-URL:http://singpromos.com
X-WR-CALDESC:Events for SINGPromos.com
BEGIN:VEVENT
DTSTART:20160908T000000
DTEND:20160918T235900
DTSTAMP:20260420T055705
CREATED:20160907T122437
LAST-MODIFIED:20160910T140742
UID:187829@http://singpromos.com
SUMMARY:AIBI: Open House Sale - Up to 70% Off from 8 - 18 Sep 2016
DESCRIPTION:Save up to 70% off on over 200 items of Brand New and Display Fitness products at Aibi's Healthy Lifestyle Singapore Festival Sale Event. For more information, visit [ http://singpromos.com/warehouse-sales/aibi-open-house-sale-up-to-70-off-from-8-18-sep-2016-187829/ ]. 
LOCATION:768725
URL:http://singpromos.com/warehouse-sales/aibi-open-house-sale-up-to-70-off-from-8-18-sep-2016-187829/
END:VEVENT
END:VCALENDAR