BEGIN:VCALENDAR
PRODID:-//SINGPromos.com//NONSGML v1.0//EN
VERSION:2.0
CALSCALE:GREGORIAN
METHOD:PUBLISH
X-WR-CALNAME:SINGPromos.com
X-ORIGINAL-URL:http://singpromos.com
X-WR-CALDESC:Events for SINGPromos.com
BEGIN:VEVENT
DTSTART:20161110T000000
DTEND:20161120T235900
DTSTAMP:20260420T003451
CREATED:20161110T122556
LAST-MODIFIED:20161112T001513
UID:191685@http://singpromos.com
SUMMARY:Robinsons is having an Expo sale featuring up to 80% off discounts from 10 - 20 Nov 2016
DESCRIPTION:Robinsons Expo is back and happening at Singapore Expo Hall 5 from 10 November to 20 November 2016, 10.30am to 10pm. ALL Shoppers enjoy $9 off with every $90 nett purchase in a single receipt.. For more information, visit [ http://singpromos.com/warehouse-sales/robinsons-is-having-an-expo-sale-featuring-up-to-80-off-discounts-from-10-20-nov-2016-191685/ ]. 
LOCATION:486150
URL:http://singpromos.com/warehouse-sales/robinsons-is-having-an-expo-sale-featuring-up-to-80-off-discounts-from-10-20-nov-2016-191685/
END:VEVENT
END:VCALENDAR