BEGIN:VCALENDAR
PRODID:-//SINGPromos.com//NONSGML v1.0//EN
VERSION:2.0
CALSCALE:GREGORIAN
METHOD:PUBLISH
X-WR-CALNAME:SINGPromos.com
X-ORIGINAL-URL:http://singpromos.com
X-WR-CALDESC:Events for SINGPromos.com
BEGIN:VEVENT
DTSTART:20161125T000000
DTEND:20161127T235900
DTSTAMP:20260420T031409
CREATED:20161121T113924
LAST-MODIFIED:20161121T113924
UID:192503@http://singpromos.com
SUMMARY:Brandt Year End Sale from 25 - 27 Nov 2016
DESCRIPTION:Brandt is back at it again! Save more at the Brandt Year End Sale with massive discounts of up to 80% off! The sale runs from 25th to 27th November 2016 at SAFRA Tampines featuring home appliances such as washing machines, dishwashers, ovens & more. For more information, visit [ http://singpromos.com/warehouse-sales/brandt-year-end-sale-from-25-27-nov-2016-192503/ ]. 
LOCATION:528882
URL:http://singpromos.com/warehouse-sales/brandt-year-end-sale-from-25-27-nov-2016-192503/
END:VEVENT
END:VCALENDAR