BEGIN:VCALENDAR
PRODID:-//SINGPromos.com//NONSGML v1.0//EN
VERSION:2.0
CALSCALE:GREGORIAN
METHOD:PUBLISH
X-WR-CALNAME:SINGPromos.com
X-ORIGINAL-URL:http://singpromos.com
X-WR-CALDESC:Events for SINGPromos.com
BEGIN:VEVENT
DTSTART:20170601T000000
DTEND:20170604T235900
DTSTAMP:20260422T080026
CREATED:20170601T102653
LAST-MODIFIED:20170601T102731
UID:202548@http://singpromos.com
SUMMARY:StarHub: CEE 2017 offers & deals! Valid from 1 - 4 Jun 2017
DESCRIPTION:StarHub will be present at CEE 2017! Here are the flyers containing details about StarHub's Mobile, TV, Broadband and Hubbing offers. For more information, visit [ http://singpromos.com/telecoms/starhub-cee-2017-offers-deals-valid-from-1-4-jun-2017-202548/ ]. 
LOCATION:
URL:http://singpromos.com/telecoms/starhub-cee-2017-offers-deals-valid-from-1-4-jun-2017-202548/
END:VEVENT
END:VCALENDAR