BEGIN:VCALENDAR
PRODID:-//SINGPromos.com//NONSGML v1.0//EN
VERSION:2.0
CALSCALE:GREGORIAN
METHOD:PUBLISH
X-WR-CALNAME:SINGPromos.com
X-ORIGINAL-URL:http://singpromos.com
X-WR-CALDESC:Events for SINGPromos.com
BEGIN:VEVENT
DTSTART:20170601T000000
DTEND:20170604T235900
DTSTAMP:20260422T080026
CREATED:20170601T111717
LAST-MODIFIED:20170601T111717
UID:202557@http://singpromos.com
SUMMARY:M1 PC SHOW and CEE 2017 deals & offers! Valid from 1 - 4 Jun 2017
DESCRIPTION:Back by popular demand and exclusively at M1 Booth PC Show/CEE 2017! Get the latest Nintendo Switch Bundle with Fibre Broadband 1Gbps plan! T&Cs apply.. For more information, visit [ http://singpromos.com/telecoms/m1-pc-show-and-cee-2017-deals-offers-valid-from-1-4-jun-2017-202557/ ]. 
LOCATION:
URL:http://singpromos.com/telecoms/m1-pc-show-and-cee-2017-deals-offers-valid-from-1-4-jun-2017-202557/
END:VEVENT
END:VCALENDAR