BEGIN:VCALENDAR
PRODID:-//SINGPromos.com//NONSGML v1.0//EN
VERSION:2.0
CALSCALE:GREGORIAN
METHOD:PUBLISH
X-WR-CALNAME:SINGPromos.com
X-ORIGINAL-URL:http://singpromos.com
X-WR-CALDESC:Events for SINGPromos.com
BEGIN:VEVENT
DTSTART:20170810T000000
DTEND:20170810T235900
DTSTAMP:20260419T230755
CREATED:20170810T115629
LAST-MODIFIED:20170810T115629
UID:205655@http://singpromos.com
SUMMARY:Tracyeinny: 20% off storewide one-day promo at Junction 8 on 10 Aug 2017
DESCRIPTION:Tracyeinny Bishan will be relocating to a bigger space in Bishan Junction 8 on October 3, 2017. Today's (10 Aug) the last day at the current store at Junction 8, #02-36/37. For more information, visit [ http://singpromos.com/fashion-accessories/tracyeinny-20-off-storewide-one-day-promo-at-junction-8-on-10-aug-2017-205655/ ]. 
LOCATION:579837
URL:http://singpromos.com/fashion-accessories/tracyeinny-20-off-storewide-one-day-promo-at-junction-8-on-10-aug-2017-205655/
END:VEVENT
END:VCALENDAR