BEGIN:VCALENDAR
PRODID:-//SINGPromos.com//NONSGML v1.0//EN
VERSION:2.0
CALSCALE:GREGORIAN
METHOD:PUBLISH
X-WR-CALNAME:SINGPromos.com
X-ORIGINAL-URL:http://singpromos.com
X-WR-CALDESC:Events for SINGPromos.com
BEGIN:VEVENT
DTSTART:20170901T000000
DTEND:20170904T235900
DTSTAMP:20260424T032420
CREATED:20170815T155149
LAST-MODIFIED:20170831T182332
UID:205832@http://singpromos.com
SUMMARY:King Koil: Up to 90% off annual warehouse sale returns from 1 - 4 Sep 2017
DESCRIPTION:The King Koil Annual Warehouse Sale is BACK featuring massive savings! There will be better deals & steals from a wide range of products including Mattresses, Bedding, Linen, Furniture & Sofas.. For more information, visit [ http://singpromos.com/warehouse-sales/king-koil-annual-warehouse-sale-from-1-4-sep-2017-205832/ ]. 
LOCATION:13 Sungei Kadut Way, 728792
URL:http://singpromos.com/warehouse-sales/king-koil-annual-warehouse-sale-from-1-4-sep-2017-205832/
END:VEVENT
END:VCALENDAR