BEGIN:VCALENDAR
PRODID:-//SINGPromos.com//NONSGML v1.0//EN
VERSION:2.0
CALSCALE:GREGORIAN
METHOD:PUBLISH
X-WR-CALNAME:SINGPromos.com
X-ORIGINAL-URL:http://singpromos.com
X-WR-CALDESC:Events for SINGPromos.com
BEGIN:VEVENT
DTSTART:20170824T000000
DTEND:20170826T235900
DTSTAMP:20260420T074733
CREATED:20170820T150446
LAST-MODIFIED:20170820T151736
UID:206082@http://singpromos.com
SUMMARY:Samsonite: Up to 70% off Friends & Family sale! From 24 - 26 Aug 2017
DESCRIPTION:Enjoy up to 70% savings at Samsonite Friends & Family Sale. American Express® Card Members are able to enjoy an additional 5% savings on the sale items.. For more information, visit [ http://singpromos.com/warehouse-sales/samsonite-up-to-70-off-friends-family-sale-from-24-26-aug-2017-206082/ ]. 
LOCATION:819664
URL:http://singpromos.com/warehouse-sales/samsonite-up-to-70-off-friends-family-sale-from-24-26-aug-2017-206082/
END:VEVENT
END:VCALENDAR