BEGIN:VCALENDAR
PRODID:-//SINGPromos.com//NONSGML v1.0//EN
VERSION:2.0
CALSCALE:GREGORIAN
METHOD:PUBLISH
X-WR-CALNAME:SINGPromos.com
X-ORIGINAL-URL:http://singpromos.com
X-WR-CALDESC:Events for SINGPromos.com
BEGIN:VEVENT
DTSTART:20170831T000000
DTEND:20170910T235900
DTSTAMP:20260419T235636
CREATED:20170830T112940
LAST-MODIFIED:20170830T112940
UID:206565@http://singpromos.com
SUMMARY:Robinsons EXPO sale offers discounts of up to 80%! From 31 Aug - 10 Sep 2017
DESCRIPTION:Go BIG on savings with the Robinsons EXPO Sale! Enjoy up to 80% off of products including home furnishings as well as fashion apparels for the whole family, plus save more as you spend more and enjoy $9 off with minimum $90 nett spend. For more information, visit [ http://singpromos.com/warehouse-sales/robinsons-expo-sale-offers-discounts-of-up-to-80-from-31-aug-10-sep-2017-206565/ ]. 
LOCATION:486150
URL:http://singpromos.com/warehouse-sales/robinsons-expo-sale-offers-discounts-of-up-to-80-from-31-aug-10-sep-2017-206565/
END:VEVENT
END:VCALENDAR