BEGIN:VCALENDAR
PRODID:-//SINGPromos.com//NONSGML v1.0//EN
VERSION:2.0
CALSCALE:GREGORIAN
METHOD:PUBLISH
X-WR-CALNAME:SINGPromos.com
X-ORIGINAL-URL:http://singpromos.com
X-WR-CALDESC:Events for SINGPromos.com
BEGIN:VEVENT
DTSTART:20111208T000000
DTEND:20111218T235900
DTSTAMP:20260420T014007
CREATED:20111209T005551
LAST-MODIFIED:20111216T205759
UID:20681@http://singpromos.com
SUMMARY:Robinsons Expo 2011 Sale @ Singapore Expo 8 - 18 Dec 2011
DESCRIPTION:Robinsons will be having a sale at Singapore Expo from 8 December to 18 December 2011, 1030am to 10pm at Singapore Expo, Hall 5 with up to 70% off. Cardmembers preview on 8 - 9 December 2011. For more information, visit [ http://singpromos.com/department-stores/robinsons-expo-2011-sale-singapore-expo-8-18-dec-2011-20681/ ]. 
LOCATION:
URL:http://singpromos.com/department-stores/robinsons-expo-2011-sale-singapore-expo-8-18-dec-2011-20681/
END:VEVENT
END:VCALENDAR