BEGIN:VCALENDAR
PRODID:-//SINGPromos.com//NONSGML v1.0//EN
VERSION:2.0
CALSCALE:GREGORIAN
METHOD:PUBLISH
X-WR-CALNAME:SINGPromos.com
X-ORIGINAL-URL:http://singpromos.com
X-WR-CALDESC:Events for SINGPromos.com
BEGIN:VEVENT
DTSTART:20171005T000000
DTEND:20171015T235900
DTSTAMP:20260419T235550
CREATED:20171004T203735
LAST-MODIFIED:20171004T204033
UID:208024@http://singpromos.com
SUMMARY:Robinsons EXPO sale returns with up to 80% discounts plus $9 off $90 spend! From 5 - 15 Oct 2017
DESCRIPTION:Go BIG on savings with the Robinsons EXPO Sale! Enjoy up to 80% off of products including home furnishings as well as fashion apparels for the whole family, plus save more as you spend more and enjoy $9 off with minimum $90 nett spend. For more information, visit [ http://singpromos.com/warehouse-sales/robinsons-expo-sale-returns-with-up-to-80-discounts-plus-9-off-90-spend-from-5-15-oct-2017-208024/ ]. 
LOCATION:486150
URL:http://singpromos.com/warehouse-sales/robinsons-expo-sale-returns-with-up-to-80-discounts-plus-9-off-90-spend-from-5-15-oct-2017-208024/
END:VEVENT
END:VCALENDAR